BEGIN:VCALENDAR
VERSION:2.0
PRODID:-//Quenedit Ballet School - ECPv6.15.20//NONSGML v1.0//EN
CALSCALE:GREGORIAN
METHOD:PUBLISH
X-ORIGINAL-URL:https://queneditdance.com
X-WR-CALDESC:Events for Quenedit Ballet School
REFRESH-INTERVAL;VALUE=DURATION:PT1H
X-Robots-Tag:noindex
X-PUBLISHED-TTL:PT1H
BEGIN:VTIMEZONE
TZID:UTC
BEGIN:STANDARD
TZOFFSETFROM:+0000
TZOFFSETTO:+0000
TZNAME:UTC
DTSTART:20250101T000000
END:STANDARD
END:VTIMEZONE
BEGIN:VEVENT
DTSTART;VALUE=DATE:20260105
DTEND;VALUE=DATE:20260201
DTSTAMP:20260419T194023
CREATED:20250624T182902Z
LAST-MODIFIED:20250624T182902Z
UID:872-1767571200-1769903999@queneditdance.com
SUMMARY:QBS - Term 6 (January 5 - January 31\, 2026)
DESCRIPTION:
URL:https://queneditdance.com/event/qbs-term-6-january-5-january-31-2026/
LOCATION:Quenedit Ballet School\, TX\, 78258\, United States
END:VEVENT
END:VCALENDAR