BEGIN:VCALENDAR
VERSION:2.0
PRODID:-//Quenedit Ballet School - ECPv6.15.20//NONSGML v1.0//EN
CALSCALE:GREGORIAN
METHOD:PUBLISH
X-WR-CALNAME:Quenedit Ballet School
X-ORIGINAL-URL:https://queneditdance.com
X-WR-CALDESC:Events for Quenedit Ballet School
REFRESH-INTERVAL;VALUE=DURATION:PT1H
X-Robots-Tag:noindex
X-PUBLISHED-TTL:PT1H
BEGIN:VTIMEZONE
TZID:UTC
BEGIN:STANDARD
TZOFFSETFROM:+0000
TZOFFSETTO:+0000
TZNAME:UTC
DTSTART:20240101T000000
END:STANDARD
END:VTIMEZONE
BEGIN:VEVENT
DTSTART;VALUE=DATE:20250901
DTEND;VALUE=DATE:20250902
DTSTAMP:20260419T164430
CREATED:20250624T172353Z
LAST-MODIFIED:20250624T174356Z
UID:862-1756684800-1756771199@queneditdance.com
SUMMARY:QBS - School Holiday (Labor Day)
DESCRIPTION:
URL:https://queneditdance.com/event/qbs-school-holiday-labor-day/
LOCATION:Quenedit Ballet School\, TX\, 78258\, United States
END:VEVENT
BEGIN:VEVENT
DTSTART;VALUE=DATE:20250804
DTEND;VALUE=DATE:20250831
DTSTAMP:20260419T164430
CREATED:20250624T172251Z
LAST-MODIFIED:20250624T172251Z
UID:858-1754265600-1756598399@queneditdance.com
SUMMARY:Term 1 (August 4 - August 30\, 2025)
DESCRIPTION:
URL:https://queneditdance.com/event/term-1-august-4-august-30-2025/
LOCATION:Quenedit Ballet School\, TX\, 78258\, United States
END:VEVENT
BEGIN:VEVENT
DTSTART;VALUE=DATE:20250804
DTEND;VALUE=DATE:20250805
DTSTAMP:20260419T164430
CREATED:20250422T184613Z
LAST-MODIFIED:20250422T184613Z
UID:813-1754265600-1754351999@queneditdance.com
SUMMARY:First day of classes 2025/26 school year
DESCRIPTION:
URL:https://queneditdance.com/event/first-day-of-classes-2025-26-school-year/
LOCATION:TX
END:VEVENT
BEGIN:VEVENT
DTSTART;TZID=UTC:20250616T080000
DTEND;TZID=UTC:20250718T170000
DTSTAMP:20260419T164430
CREATED:20250422T184550Z
LAST-MODIFIED:20250422T184550Z
UID:811-1750060800-1752858000@queneditdance.com
SUMMARY:QBS Summer Programs
DESCRIPTION:QBS Summer Programs (summer intensive\, kids camps\, weekly classes)
URL:https://queneditdance.com/event/qbs-summer-programs/
LOCATION:TX
END:VEVENT
BEGIN:VEVENT
DTSTART;VALUE=DATE:20250524
DTEND;VALUE=DATE:20250525
DTSTAMP:20260419T164430
CREATED:20250422T184507Z
LAST-MODIFIED:20250422T184507Z
UID:809-1748044800-1748131199@queneditdance.com
SUMMARY:Last day of classes for 2024/25 school year
DESCRIPTION:
URL:https://queneditdance.com/event/last-day-of-classes-for-2024-25-school-year/
LOCATION:TX
END:VEVENT
BEGIN:VEVENT
DTSTART;TZID=UTC:20250512T080000
DTEND;TZID=UTC:20250517T170000
DTSTAMP:20260419T164430
CREATED:20250422T192451Z
LAST-MODIFIED:20250422T192451Z
UID:830-1747036800-1747501200@queneditdance.com
SUMMARY:Parent observation week.
DESCRIPTION:
URL:https://queneditdance.com/event/parent-observation-week/
LOCATION:TX
END:VEVENT
BEGIN:VEVENT
DTSTART;TZID=UTC:20250512T080000
DTEND;TZID=UTC:20250517T170000
DTSTAMP:20260419T164430
CREATED:20250422T184438Z
LAST-MODIFIED:20250422T192416Z
UID:807-1747036800-1747501200@queneditdance.com
SUMMARY:Pre-registration for 2025/26
DESCRIPTION:May 12-17\, 2025: Pre-registration for 2025/26 school year & Parent Observation Week
URL:https://queneditdance.com/event/pre-registration-for-2025-26/
LOCATION:TX
END:VEVENT
BEGIN:VEVENT
DTSTART;VALUE=DATE:20250503
DTEND;VALUE=DATE:20250504
DTSTAMP:20260419T164430
CREATED:20250422T184942Z
LAST-MODIFIED:20250422T184942Z
UID:821-1746230400-1746316799@queneditdance.com
SUMMARY:QBS Recital
DESCRIPTION:May 3\, 2025 (all day) QBS Recital – See Details Below The first show Enchanted Garden will kick off at 10:00 A.M. and conclude at approximately 11:30 A.M. Classes included in the Enchanted Garden show are Creative Movement\, Breakdance\, Dance & Tumble Explorers\, Pre-Ballet\, Pre-Jazz\, Pre-Jazz Funk & Pre-Hip Hop classes. \nPerformers are required to arrive an hour early in costume with hair and makeup stage ready. We encourage our Enchanted Garden performers to come back and watch the Esmeralda & Emotions Unveiled show at 2:00P.M. \nThe second show Esmeralda & Emotions Unveiled will kick off at 2:00 P.M. and conclude at approximately 4:00 P.M. Classes included in Esmeralda & Emotions Unveiled are Ballet 1 through 6\, Contemporary\, Jazz\, Hip Hop\, Acro\, & Rhythmic Dance Fusion. \nPerformers are required to arrive an hour early with their costume on or in a bag\, hair and makeup stage ready.* *Ballet 4 & 6 will have a warm up class on stage at 12:30 P.M. 
URL:https://queneditdance.com/event/qbs-recital/
LOCATION:TX
END:VEVENT
BEGIN:VEVENT
DTSTART;VALUE=DATE:20250428
DTEND;VALUE=DATE:20250429
DTSTAMP:20260419T164430
CREATED:20250422T184134Z
LAST-MODIFIED:20250422T184304Z
UID:804-1745798400-1745884799@queneditdance.com
SUMMARY:Term 10 Payment Due
DESCRIPTION:Term 10 Payment Due (Term 10: April 28-May 24\, 2025) — Special Note: As outlined on page six in the QBS Information Packet\, please note the following important policy:\nStudents planning to perform in the May 3 Recital must have Term 10 tuition paid in full in order to participate in the recital. This applies even if your child does not plan to continue at QBS after the recital.
URL:https://queneditdance.com/event/calendar/
LOCATION:TX
END:VEVENT
BEGIN:VEVENT
DTSTART;TZID=UTC:20250426T133000
DTEND;TZID=UTC:20250426T163000
DTSTAMP:20260419T164430
CREATED:20250422T184838Z
LAST-MODIFIED:20250422T190637Z
UID:819-1745674200-1745685000@queneditdance.com
SUMMARY:QBS Recital Rehearsal – Ballet Beginner\, Teen/Adult Ballet\, Ballet 1\, Ballet 1A\, Ballet 2\, Ballet 3\, Ballet 4\, Ballet 6
DESCRIPTION:April 26 @2:00-4:30 p.m. QBS Recital Rehearsal – Ballet Beginner\, Teen/Adult Ballet\, Ballet 1\, Ballet 1A\, Ballet 2\, Ballet 3\, Ballet 4\, Ballet 6 🌹 \nEsmeralda Participants (2:00–4:30 p.m.) Ballet Beginner\, Teen/Adult Ballet\, Ballet 1\, Ballet 1A\, Ballet 2\, Ballet 3\, Ballet 4\, Ballet 6 
URL:https://queneditdance.com/event/april-26-200-430-p-m-qbs-recital-rehearsal-ballet-beginner-teen-adult-ballet-ballet-1-ballet-1a-ballet-2-ballet-3-ballet-4-ballet-6/
LOCATION:TX
END:VEVENT
BEGIN:VEVENT
DTSTART;TZID=UTC:20250426T120000
DTEND;TZID=UTC:20250426T140000
DTSTAMP:20260419T164430
CREATED:20250422T184802Z
LAST-MODIFIED:20250422T190658Z
UID:817-1745668800-1745676000@queneditdance.com
SUMMARY:QBS Recital Rehearsal – Acro\, Rhythmic Dance Fusion\, all Contemporary classes\, Jazz 1\, 2 & 3\, Hip Hop 2/3\, Advanced Hip Hop
DESCRIPTION:April 26 @12:00-1:30 p.m.\nQBS Recital Rehearsal – Acro\, Rhythmic Dance Fusion\, all Contemporary classes\, Jazz 1\, 2 & 3\, Hip Hop 2/3\, Advanced Hip Hop 🎭
URL:https://queneditdance.com/event/qbs-recital-rehearsal-acro-rhythmic-dance-fusion-all-contemporary-classes-jazz-1-2-3-hip-hop-2-3-advanced-hip-hop/
LOCATION:TX
END:VEVENT
BEGIN:VEVENT
DTSTART;TZID=UTC:20250426T090000
DTEND;TZID=UTC:20250426T113000
DTSTAMP:20260419T164430
CREATED:20250422T184714Z
LAST-MODIFIED:20250422T185920Z
UID:815-1745658000-1745667000@queneditdance.com
SUMMARY:Recital Rehearsal – Creative Movement\, Dance & Tumble Explorers\, Pre-Ballet\, Pre-Jazz\, Pre-Jazz Funk\, Pre-Hip Hop\, Breakdance
DESCRIPTION:April 26 @ 9:00 am – 11:30 am\nRecital Rehearsal – Creative Movement\, Dance & Tumble Explorers\, Pre-Ballet\, Pre-Jazz\, Pre-Jazz Funk\, Pre-Hip Hop\, Breakdance 
URL:https://queneditdance.com/event/recital-rehearsal-creative-movement-dance-tumble-explorers-pre-ballet-pre-jazz-pre-jazz-funk-pre-hip-hop-breakdance/
LOCATION:TX
END:VEVENT
END:VCALENDAR